BEGIN:VCALENDAR
VERSION:2.0
PRODID:-//Gristmill River Restaurant &amp; Bar in Historic Gruene - ECPv6.15.11//NONSGML v1.0//EN
CALSCALE:GREGORIAN
METHOD:PUBLISH
X-WR-CALNAME:Gristmill River Restaurant &amp; Bar in Historic Gruene
X-ORIGINAL-URL:https://gristmillrestaurant.com
X-WR-CALDESC:Events for Gristmill River Restaurant &amp; Bar in Historic Gruene
REFRESH-INTERVAL;VALUE=DURATION:PT1H
X-Robots-Tag:noindex
X-PUBLISHED-TTL:PT1H
BEGIN:VTIMEZONE
TZID:America/Chicago
BEGIN:DAYLIGHT
TZOFFSETFROM:-0600
TZOFFSETTO:-0500
TZNAME:CDT
DTSTART:20240310T080000
END:DAYLIGHT
BEGIN:STANDARD
TZOFFSETFROM:-0500
TZOFFSETTO:-0600
TZNAME:CST
DTSTART:20241103T070000
END:STANDARD
BEGIN:DAYLIGHT
TZOFFSETFROM:-0600
TZOFFSETTO:-0500
TZNAME:CDT
DTSTART:20250309T080000
END:DAYLIGHT
BEGIN:STANDARD
TZOFFSETFROM:-0500
TZOFFSETTO:-0600
TZNAME:CST
DTSTART:20251102T070000
END:STANDARD
BEGIN:DAYLIGHT
TZOFFSETFROM:-0600
TZOFFSETTO:-0500
TZNAME:CDT
DTSTART:20260308T080000
END:DAYLIGHT
BEGIN:STANDARD
TZOFFSETFROM:-0500
TZOFFSETTO:-0600
TZNAME:CST
DTSTART:20261101T070000
END:STANDARD
END:VTIMEZONE
BEGIN:VEVENT
DTSTART;TZID=America/Chicago:20250606T190000
DTEND;TZID=America/Chicago:20250606T220000
DTSTAMP:20260423T210837
CREATED:20250605T213306Z
LAST-MODIFIED:20250605T213306Z
UID:10000680-1749236400-1749247200@gristmillrestaurant.com
SUMMARY:Austin Gilliam
DESCRIPTION:
URL:https://gristmillrestaurant.com/event/austin-gilliam-13/
LOCATION:Gristmill River Restaurant & Bar\, 1287 Gruene Rd\, New Braunfels\, TX\, 78130\, United States
CATEGORIES:Free Event
END:VEVENT
BEGIN:VEVENT
DTSTART;TZID=America/Chicago:20250607T123000
DTEND;TZID=America/Chicago:20250607T153000
DTSTAMP:20260423T210837
CREATED:20250605T213407Z
LAST-MODIFIED:20250605T213407Z
UID:10000681-1749299400-1749310200@gristmillrestaurant.com
SUMMARY:Nick Garcia
DESCRIPTION:
URL:https://gristmillrestaurant.com/event/nick-garcia/
LOCATION:Gristmill River Restaurant & Bar\, 1287 Gruene Rd\, New Braunfels\, TX\, 78130\, United States
CATEGORIES:Free Event
END:VEVENT
BEGIN:VEVENT
DTSTART;TZID=America/Chicago:20250607T183000
DTEND;TZID=America/Chicago:20250607T223000
DTSTAMP:20260423T210837
CREATED:20250519T200045Z
LAST-MODIFIED:20250519T200045Z
UID:10000679-1749321000-1749335400@gristmillrestaurant.com
SUMMARY:True Labowski
DESCRIPTION:
URL:https://gristmillrestaurant.com/event/true-labowski-44/
LOCATION:Gristmill River Restaurant & Bar\, 1287 Gruene Rd\, New Braunfels\, TX\, 78130\, United States
CATEGORIES:Free Event
END:VEVENT
BEGIN:VEVENT
DTSTART;TZID=America/Chicago:20250608T120000
DTEND;TZID=America/Chicago:20250608T150000
DTSTAMP:20260423T210837
CREATED:20250605T213452Z
LAST-MODIFIED:20250605T213452Z
UID:10000682-1749384000-1749394800@gristmillrestaurant.com
SUMMARY:Andi Holleman
DESCRIPTION:
URL:https://gristmillrestaurant.com/event/andi-holleman-4/
LOCATION:Gristmill River Restaurant & Bar\, 1287 Gruene Rd\, New Braunfels\, TX\, 78130\, United States
CATEGORIES:Free Event
END:VEVENT
BEGIN:VEVENT
DTSTART;TZID=America/Chicago:20250608T180000
DTEND;TZID=America/Chicago:20250608T210000
DTSTAMP:20260423T210837
CREATED:20250605T213541Z
LAST-MODIFIED:20250605T213541Z
UID:10000683-1749405600-1749416400@gristmillrestaurant.com
SUMMARY:Ryan Snipes
DESCRIPTION:
URL:https://gristmillrestaurant.com/event/ryan-snipes-4/
LOCATION:Gristmill River Restaurant & Bar\, 1287 Gruene Rd\, New Braunfels\, TX\, 78130\, United States
CATEGORIES:Free Event
END:VEVENT
BEGIN:VEVENT
DTSTART;TZID=America/Chicago:20250613T190000
DTEND;TZID=America/Chicago:20250613T220000
DTSTAMP:20260423T210837
CREATED:20250605T213633Z
LAST-MODIFIED:20250605T213633Z
UID:10000684-1749841200-1749852000@gristmillrestaurant.com
SUMMARY:Tasman Sharp
DESCRIPTION:
URL:https://gristmillrestaurant.com/event/tasman-sharp-8/
LOCATION:Gristmill River Restaurant & Bar\, 1287 Gruene Rd\, New Braunfels\, TX\, 78130\, United States
CATEGORIES:Free Event
END:VEVENT
BEGIN:VEVENT
DTSTART;TZID=America/Chicago:20250615T120000
DTEND;TZID=America/Chicago:20250615T150000
DTSTAMP:20260423T210837
CREATED:20250605T213715Z
LAST-MODIFIED:20250605T213715Z
UID:10000685-1749988800-1749999600@gristmillrestaurant.com
SUMMARY:Andrew Kreitz
DESCRIPTION:
URL:https://gristmillrestaurant.com/event/andrew-kreitz-15/
LOCATION:Gristmill River Restaurant & Bar\, 1287 Gruene Rd\, New Braunfels\, TX\, 78130\, United States
CATEGORIES:Free Event
END:VEVENT
BEGIN:VEVENT
DTSTART;TZID=America/Chicago:20250615T180000
DTEND;TZID=America/Chicago:20250615T210000
DTSTAMP:20260423T210837
CREATED:20250605T213832Z
LAST-MODIFIED:20250605T213832Z
UID:10000686-1750010400-1750021200@gristmillrestaurant.com
SUMMARY:Austin Gilliam
DESCRIPTION:
URL:https://gristmillrestaurant.com/event/austin-gilliam-14/
LOCATION:Gristmill River Restaurant & Bar\, 1287 Gruene Rd\, New Braunfels\, TX\, 78130\, United States
CATEGORIES:Free Event
END:VEVENT
BEGIN:VEVENT
DTSTART;TZID=America/Chicago:20250620T190000
DTEND;TZID=America/Chicago:20250620T220000
DTSTAMP:20260423T210837
CREATED:20250605T214028Z
LAST-MODIFIED:20250605T214028Z
UID:10000687-1750446000-1750456800@gristmillrestaurant.com
SUMMARY:Colton's Kin
DESCRIPTION:
URL:https://gristmillrestaurant.com/event/coltons-kin-35/
LOCATION:Gristmill River Restaurant & Bar\, 1287 Gruene Rd\, New Braunfels\, TX\, 78130\, United States
CATEGORIES:Free Event
END:VEVENT
BEGIN:VEVENT
DTSTART;TZID=America/Chicago:20250621T120000
DTEND;TZID=America/Chicago:20250621T150000
DTSTAMP:20260423T210837
CREATED:20250605T214106Z
LAST-MODIFIED:20250605T214106Z
UID:10000688-1750507200-1750518000@gristmillrestaurant.com
SUMMARY:Michael Monroe Goodman
DESCRIPTION:
URL:https://gristmillrestaurant.com/event/michael-monroe-goodman-27/
LOCATION:Gristmill River Restaurant & Bar\, 1287 Gruene Rd\, New Braunfels\, TX\, 78130\, United States
CATEGORIES:Free Event
END:VEVENT
BEGIN:VEVENT
DTSTART;TZID=America/Chicago:20250622T120000
DTEND;TZID=America/Chicago:20250622T150000
DTSTAMP:20260423T210837
CREATED:20250605T214146Z
LAST-MODIFIED:20250605T214146Z
UID:10000689-1750593600-1750604400@gristmillrestaurant.com
SUMMARY:Dave Russell
DESCRIPTION:
URL:https://gristmillrestaurant.com/event/dave-russell-2/
LOCATION:Gristmill River Restaurant & Bar\, 1287 Gruene Rd\, New Braunfels\, TX\, 78130\, United States
CATEGORIES:Free Event
END:VEVENT
BEGIN:VEVENT
DTSTART;TZID=America/Chicago:20250628T123000
DTEND;TZID=America/Chicago:20250628T153000
DTSTAMP:20260423T210837
CREATED:20250605T214225Z
LAST-MODIFIED:20250605T214225Z
UID:10000690-1751113800-1751124600@gristmillrestaurant.com
SUMMARY:Andi Holleman
DESCRIPTION:
URL:https://gristmillrestaurant.com/event/andi-holleman-5/
LOCATION:Gristmill River Restaurant & Bar\, 1287 Gruene Rd\, New Braunfels\, TX\, 78130\, United States
CATEGORIES:Free Event
END:VEVENT
BEGIN:VEVENT
DTSTART;TZID=America/Chicago:20250628T183000
DTEND;TZID=America/Chicago:20250628T223000
DTSTAMP:20260423T210837
CREATED:20250605T214304Z
LAST-MODIFIED:20250605T214304Z
UID:10000691-1751135400-1751149800@gristmillrestaurant.com
SUMMARY:True Labowski
DESCRIPTION:
URL:https://gristmillrestaurant.com/event/true-labowski-45/
LOCATION:Gristmill River Restaurant & Bar\, 1287 Gruene Rd\, New Braunfels\, TX\, 78130\, United States
CATEGORIES:Free Event
END:VEVENT
BEGIN:VEVENT
DTSTART;TZID=America/Chicago:20250629T120000
DTEND;TZID=America/Chicago:20250629T150000
DTSTAMP:20260423T210837
CREATED:20250605T214344Z
LAST-MODIFIED:20250605T214344Z
UID:10000692-1751198400-1751209200@gristmillrestaurant.com
SUMMARY:Austin Gilliam
DESCRIPTION:
URL:https://gristmillrestaurant.com/event/austin-gilliam-15/
LOCATION:Gristmill River Restaurant & Bar\, 1287 Gruene Rd\, New Braunfels\, TX\, 78130\, United States
CATEGORIES:Free Event
END:VEVENT
BEGIN:VEVENT
DTSTART;TZID=America/Chicago:20250629T180000
DTEND;TZID=America/Chicago:20250629T210000
DTSTAMP:20260423T210837
CREATED:20250625T194429Z
LAST-MODIFIED:20250625T194429Z
UID:10000693-1751220000-1751230800@gristmillrestaurant.com
SUMMARY:Lance Lipinsky
DESCRIPTION:
URL:https://gristmillrestaurant.com/event/lance-lipinsky-41/
LOCATION:Gristmill River Restaurant & Bar\, 1287 Gruene Rd\, New Braunfels\, TX\, 78130\, United States
CATEGORIES:Free Event
END:VEVENT
END:VCALENDAR