BEGIN:VCALENDAR
VERSION:2.0
PRODID:-//Gristmill River Restaurant &amp; Bar in Historic Gruene - ECPv6.15.11//NONSGML v1.0//EN
CALSCALE:GREGORIAN
METHOD:PUBLISH
X-WR-CALNAME:Gristmill River Restaurant &amp; Bar in Historic Gruene
X-ORIGINAL-URL:https://gristmillrestaurant.com
X-WR-CALDESC:Events for Gristmill River Restaurant &amp; Bar in Historic Gruene
REFRESH-INTERVAL;VALUE=DURATION:PT1H
X-Robots-Tag:noindex
X-PUBLISHED-TTL:PT1H
BEGIN:VTIMEZONE
TZID:America/Chicago
BEGIN:DAYLIGHT
TZOFFSETFROM:-0600
TZOFFSETTO:-0500
TZNAME:CDT
DTSTART:20240310T080000
END:DAYLIGHT
BEGIN:STANDARD
TZOFFSETFROM:-0500
TZOFFSETTO:-0600
TZNAME:CST
DTSTART:20241103T070000
END:STANDARD
BEGIN:DAYLIGHT
TZOFFSETFROM:-0600
TZOFFSETTO:-0500
TZNAME:CDT
DTSTART:20250309T080000
END:DAYLIGHT
BEGIN:STANDARD
TZOFFSETFROM:-0500
TZOFFSETTO:-0600
TZNAME:CST
DTSTART:20251102T070000
END:STANDARD
BEGIN:DAYLIGHT
TZOFFSETFROM:-0600
TZOFFSETTO:-0500
TZNAME:CDT
DTSTART:20260308T080000
END:DAYLIGHT
BEGIN:STANDARD
TZOFFSETFROM:-0500
TZOFFSETTO:-0600
TZNAME:CST
DTSTART:20261101T070000
END:STANDARD
END:VTIMEZONE
BEGIN:VEVENT
DTSTART;TZID=America/Chicago:20250808T190000
DTEND;TZID=America/Chicago:20250808T220000
DTSTAMP:20260423T182643
CREATED:20250804T135341Z
LAST-MODIFIED:20250804T135341Z
UID:10000718-1754679600-1754690400@gristmillrestaurant.com
SUMMARY:Andrew Kreitz
DESCRIPTION:
URL:https://gristmillrestaurant.com/event/andrew-kreitz-17/
LOCATION:Gristmill River Restaurant & Bar\, 1287 Gruene Rd\, New Braunfels\, TX\, 78130\, United States
CATEGORIES:Free Event
END:VEVENT
BEGIN:VEVENT
DTSTART;TZID=America/Chicago:20250809T120000
DTEND;TZID=America/Chicago:20250809T150000
DTSTAMP:20260423T182643
CREATED:20250804T135416Z
LAST-MODIFIED:20250804T135416Z
UID:10000719-1754740800-1754751600@gristmillrestaurant.com
SUMMARY:Colton's Kin
DESCRIPTION:
URL:https://gristmillrestaurant.com/event/coltons-kin-38/
LOCATION:Gristmill River Restaurant & Bar\, 1287 Gruene Rd\, New Braunfels\, TX\, 78130\, United States
CATEGORIES:Free Event
END:VEVENT
BEGIN:VEVENT
DTSTART;TZID=America/Chicago:20250809T180000
DTEND;TZID=America/Chicago:20250809T210000
DTSTAMP:20260423T182643
CREATED:20250804T135505Z
LAST-MODIFIED:20250804T135505Z
UID:10000720-1754762400-1754773200@gristmillrestaurant.com
SUMMARY:Robert Ryan Irwin
DESCRIPTION:
URL:https://gristmillrestaurant.com/event/robert-ryan-irwin/
LOCATION:Gristmill River Restaurant & Bar\, 1287 Gruene Rd\, New Braunfels\, TX\, 78130\, United States
CATEGORIES:Free Event
END:VEVENT
BEGIN:VEVENT
DTSTART;TZID=America/Chicago:20250810T120000
DTEND;TZID=America/Chicago:20250810T150000
DTSTAMP:20260423T182643
CREATED:20250804T135537Z
LAST-MODIFIED:20250804T135537Z
UID:10000721-1754827200-1754838000@gristmillrestaurant.com
SUMMARY:Dan Whitaker
DESCRIPTION:
URL:https://gristmillrestaurant.com/event/dan-whitaker-6/
LOCATION:Gristmill River Restaurant & Bar\, 1287 Gruene Rd\, New Braunfels\, TX\, 78130\, United States
CATEGORIES:Free Event
END:VEVENT
BEGIN:VEVENT
DTSTART;TZID=America/Chicago:20250815T190000
DTEND;TZID=America/Chicago:20250815T220000
DTSTAMP:20260423T182643
CREATED:20250804T135614Z
LAST-MODIFIED:20250804T135614Z
UID:10000722-1755284400-1755295200@gristmillrestaurant.com
SUMMARY:Tasman Sharp
DESCRIPTION:
URL:https://gristmillrestaurant.com/event/tasman-sharp-11/
LOCATION:Gristmill River Restaurant & Bar\, 1287 Gruene Rd\, New Braunfels\, TX\, 78130\, United States
CATEGORIES:Free Event
END:VEVENT
BEGIN:VEVENT
DTSTART;TZID=America/Chicago:20250816T120000
DTEND;TZID=America/Chicago:20250816T150000
DTSTAMP:20260423T182643
CREATED:20250804T135709Z
LAST-MODIFIED:20250804T135709Z
UID:10000723-1755345600-1755356400@gristmillrestaurant.com
SUMMARY:Trevor Underwood
DESCRIPTION:
URL:https://gristmillrestaurant.com/event/trevor-underwood/
LOCATION:Gristmill River Restaurant & Bar\, 1287 Gruene Rd\, New Braunfels\, TX\, 78130\, United States
CATEGORIES:Free Event
END:VEVENT
BEGIN:VEVENT
DTSTART;TZID=America/Chicago:20250816T180000
DTEND;TZID=America/Chicago:20250816T210000
DTSTAMP:20260423T182643
CREATED:20250804T135730Z
LAST-MODIFIED:20250804T135730Z
UID:10000724-1755367200-1755378000@gristmillrestaurant.com
SUMMARY:Owen Stroud
DESCRIPTION:
URL:https://gristmillrestaurant.com/event/owen-stroud/
LOCATION:Gristmill River Restaurant & Bar\, 1287 Gruene Rd\, New Braunfels\, TX\, 78130\, United States
CATEGORIES:Free Event
END:VEVENT
BEGIN:VEVENT
DTSTART;TZID=America/Chicago:20250823T180000
DTEND;TZID=America/Chicago:20250823T210000
DTSTAMP:20260423T182643
CREATED:20250804T135817Z
LAST-MODIFIED:20250804T135817Z
UID:10000726-1755972000-1755982800@gristmillrestaurant.com
SUMMARY:Kearney's Rangers
DESCRIPTION:
URL:https://gristmillrestaurant.com/event/kearneys-rangers-13/
LOCATION:Gristmill River Restaurant & Bar\, 1287 Gruene Rd\, New Braunfels\, TX\, 78130\, United States
CATEGORIES:Free Event
END:VEVENT
BEGIN:VEVENT
DTSTART;TZID=America/Chicago:20250824T120000
DTEND;TZID=America/Chicago:20250824T150000
DTSTAMP:20260423T182643
CREATED:20250804T135839Z
LAST-MODIFIED:20250804T135839Z
UID:10000727-1756036800-1756047600@gristmillrestaurant.com
SUMMARY:Matt Kirk
DESCRIPTION:
URL:https://gristmillrestaurant.com/event/matt-kirk-37/
LOCATION:Gristmill River Restaurant & Bar\, 1287 Gruene Rd\, New Braunfels\, TX\, 78130\, United States
CATEGORIES:Free Event
END:VEVENT
BEGIN:VEVENT
DTSTART;TZID=America/Chicago:20250829T180000
DTEND;TZID=America/Chicago:20250829T210000
DTSTAMP:20260423T182643
CREATED:20250804T135925Z
LAST-MODIFIED:20250804T135925Z
UID:10000728-1756490400-1756501200@gristmillrestaurant.com
SUMMARY:Jess & Dave
DESCRIPTION:
URL:https://gristmillrestaurant.com/event/jess-dave-2/
LOCATION:Gristmill River Restaurant & Bar\, 1287 Gruene Rd\, New Braunfels\, TX\, 78130\, United States
CATEGORIES:Free Event
END:VEVENT
BEGIN:VEVENT
DTSTART;TZID=America/Chicago:20250830T123000
DTEND;TZID=America/Chicago:20250830T153000
DTSTAMP:20260423T182643
CREATED:20250804T135950Z
LAST-MODIFIED:20250804T135950Z
UID:10000729-1756557000-1756567800@gristmillrestaurant.com
SUMMARY:TBA
DESCRIPTION:
URL:https://gristmillrestaurant.com/event/tba-3/
LOCATION:Gristmill River Restaurant & Bar\, 1287 Gruene Rd\, New Braunfels\, TX\, 78130\, United States
CATEGORIES:Free Event
END:VEVENT
BEGIN:VEVENT
DTSTART;TZID=America/Chicago:20250830T183000
DTEND;TZID=America/Chicago:20250830T223000
DTSTAMP:20260423T182643
CREATED:20250804T140043Z
LAST-MODIFIED:20250804T140043Z
UID:10000730-1756578600-1756593000@gristmillrestaurant.com
SUMMARY:True Labowski
DESCRIPTION:
URL:https://gristmillrestaurant.com/event/true-labowski-48/
LOCATION:Gristmill River Restaurant & Bar\, 1287 Gruene Rd\, New Braunfels\, TX\, 78130\, United States
CATEGORIES:Free Event
END:VEVENT
BEGIN:VEVENT
DTSTART;TZID=America/Chicago:20250831T120000
DTEND;TZID=America/Chicago:20250831T150000
DTSTAMP:20260423T182643
CREATED:20250804T140110Z
LAST-MODIFIED:20250804T140110Z
UID:10000731-1756641600-1756652400@gristmillrestaurant.com
SUMMARY:Hannah Swann
DESCRIPTION:
URL:https://gristmillrestaurant.com/event/hannah-swann-9/
LOCATION:Gristmill River Restaurant & Bar\, 1287 Gruene Rd\, New Braunfels\, TX\, 78130\, United States
CATEGORIES:Free Event
END:VEVENT
BEGIN:VEVENT
DTSTART;TZID=America/Chicago:20250831T183000
DTEND;TZID=America/Chicago:20250831T223000
DTSTAMP:20260423T182643
CREATED:20250804T140139Z
LAST-MODIFIED:20250804T140139Z
UID:10000732-1756665000-1756679400@gristmillrestaurant.com
SUMMARY:Colton's Kin
DESCRIPTION:
URL:https://gristmillrestaurant.com/event/coltons-kin-39/
LOCATION:Gristmill River Restaurant & Bar\, 1287 Gruene Rd\, New Braunfels\, TX\, 78130\, United States
CATEGORIES:Free Event
END:VEVENT
END:VCALENDAR