BEGIN:VCALENDAR
VERSION:2.0
PRODID:-//Gristmill River Restaurant &amp; Bar in Historic Gruene - ECPv6.15.11//NONSGML v1.0//EN
CALSCALE:GREGORIAN
METHOD:PUBLISH
X-WR-CALNAME:Gristmill River Restaurant &amp; Bar in Historic Gruene
X-ORIGINAL-URL:https://gristmillrestaurant.com
X-WR-CALDESC:Events for Gristmill River Restaurant &amp; Bar in Historic Gruene
REFRESH-INTERVAL;VALUE=DURATION:PT1H
X-Robots-Tag:noindex
X-PUBLISHED-TTL:PT1H
BEGIN:VTIMEZONE
TZID:America/Chicago
BEGIN:DAYLIGHT
TZOFFSETFROM:-0600
TZOFFSETTO:-0500
TZNAME:CDT
DTSTART:20240310T080000
END:DAYLIGHT
BEGIN:STANDARD
TZOFFSETFROM:-0500
TZOFFSETTO:-0600
TZNAME:CST
DTSTART:20241103T070000
END:STANDARD
BEGIN:DAYLIGHT
TZOFFSETFROM:-0600
TZOFFSETTO:-0500
TZNAME:CDT
DTSTART:20250309T080000
END:DAYLIGHT
BEGIN:STANDARD
TZOFFSETFROM:-0500
TZOFFSETTO:-0600
TZNAME:CST
DTSTART:20251102T070000
END:STANDARD
BEGIN:DAYLIGHT
TZOFFSETFROM:-0600
TZOFFSETTO:-0500
TZNAME:CDT
DTSTART:20260308T080000
END:DAYLIGHT
BEGIN:STANDARD
TZOFFSETFROM:-0500
TZOFFSETTO:-0600
TZNAME:CST
DTSTART:20261101T070000
END:STANDARD
END:VTIMEZONE
BEGIN:VEVENT
DTSTART;TZID=America/Chicago:20251004T180000
DTEND;TZID=America/Chicago:20251004T210000
DTSTAMP:20260423T151909
CREATED:20250926T143539Z
LAST-MODIFIED:20250926T143539Z
UID:10000738-1759600800-1759611600@gristmillrestaurant.com
SUMMARY:Andrew Kreitz
DESCRIPTION:
URL:https://gristmillrestaurant.com/event/andrew-kreitz-18/
LOCATION:Gristmill River Restaurant & Bar\, 1287 Gruene Rd\, New Braunfels\, TX\, 78130\, United States
CATEGORIES:Free Event
END:VEVENT
BEGIN:VEVENT
DTSTART;TZID=America/Chicago:20251011T123000
DTEND;TZID=America/Chicago:20251011T153000
DTSTAMP:20260423T151909
CREATED:20250926T143646Z
LAST-MODIFIED:20250926T143646Z
UID:10000739-1760185800-1760196600@gristmillrestaurant.com
SUMMARY:Bo Luna
DESCRIPTION:
URL:https://gristmillrestaurant.com/event/bo-luna/
LOCATION:Gristmill River Restaurant & Bar\, 1287 Gruene Rd\, New Braunfels\, TX\, 78130\, United States
CATEGORIES:Free Event
END:VEVENT
BEGIN:VEVENT
DTSTART;TZID=America/Chicago:20251011T180000
DTEND;TZID=America/Chicago:20251011T210000
DTSTAMP:20260423T151909
CREATED:20250926T143726Z
LAST-MODIFIED:20250926T143726Z
UID:10000740-1760205600-1760216400@gristmillrestaurant.com
SUMMARY:Michael Monroe Goodman
DESCRIPTION:
URL:https://gristmillrestaurant.com/event/michael-monroe-goodman-29/
LOCATION:Gristmill River Restaurant & Bar\, 1287 Gruene Rd\, New Braunfels\, TX\, 78130\, United States
CATEGORIES:Free Event
END:VEVENT
BEGIN:VEVENT
DTSTART;TZID=America/Chicago:20251012T120000
DTEND;TZID=America/Chicago:20251012T150000
DTSTAMP:20260423T151909
CREATED:20250926T143802Z
LAST-MODIFIED:20250926T143802Z
UID:10000741-1760270400-1760281200@gristmillrestaurant.com
SUMMARY:Tony Taylor
DESCRIPTION:
URL:https://gristmillrestaurant.com/event/tony-taylor-44/
LOCATION:Gristmill River Restaurant & Bar\, 1287 Gruene Rd\, New Braunfels\, TX\, 78130\, United States
CATEGORIES:Free Event
END:VEVENT
BEGIN:VEVENT
DTSTART;TZID=America/Chicago:20251018T123000
DTEND;TZID=America/Chicago:20251018T153000
DTSTAMP:20260423T151909
CREATED:20250926T143925Z
LAST-MODIFIED:20250926T143925Z
UID:10000742-1760790600-1760801400@gristmillrestaurant.com
SUMMARY:Colton's Kin
DESCRIPTION:
URL:https://gristmillrestaurant.com/event/coltons-kin-40/
LOCATION:Gristmill River Restaurant & Bar\, 1287 Gruene Rd\, New Braunfels\, TX\, 78130\, United States
CATEGORIES:Free Event
END:VEVENT
BEGIN:VEVENT
DTSTART;TZID=America/Chicago:20251018T180000
DTEND;TZID=America/Chicago:20251018T210000
DTSTAMP:20260423T151909
CREATED:20250926T144009Z
LAST-MODIFIED:20250926T144009Z
UID:10000743-1760810400-1760821200@gristmillrestaurant.com
SUMMARY:True Labowski
DESCRIPTION:
URL:https://gristmillrestaurant.com/event/true-labowski-50/
LOCATION:Gristmill River Restaurant & Bar\, 1287 Gruene Rd\, New Braunfels\, TX\, 78130\, United States
CATEGORIES:Free Event
END:VEVENT
BEGIN:VEVENT
DTSTART;TZID=America/Chicago:20251019T120000
DTEND;TZID=America/Chicago:20251019T150000
DTSTAMP:20260423T151909
CREATED:20250926T144104Z
LAST-MODIFIED:20250926T144104Z
UID:10000744-1760875200-1760886000@gristmillrestaurant.com
SUMMARY:Austin Gilliam
DESCRIPTION:
URL:https://gristmillrestaurant.com/event/austin-gilliam-17/
LOCATION:Gristmill River Restaurant & Bar\, 1287 Gruene Rd\, New Braunfels\, TX\, 78130\, United States
CATEGORIES:Free Event
END:VEVENT
BEGIN:VEVENT
DTSTART;TZID=America/Chicago:20251025T123000
DTEND;TZID=America/Chicago:20251025T153000
DTSTAMP:20260423T151909
CREATED:20250926T144150Z
LAST-MODIFIED:20250926T144150Z
UID:10000745-1761395400-1761406200@gristmillrestaurant.com
SUMMARY:Zoe Allan
DESCRIPTION:
URL:https://gristmillrestaurant.com/event/zoe-allan/
LOCATION:Gristmill River Restaurant & Bar\, 1287 Gruene Rd\, New Braunfels\, TX\, 78130\, United States
CATEGORIES:Free Event
END:VEVENT
BEGIN:VEVENT
DTSTART;TZID=America/Chicago:20251026T120000
DTEND;TZID=America/Chicago:20251026T150000
DTSTAMP:20260423T151910
CREATED:20250926T144239Z
LAST-MODIFIED:20250926T144239Z
UID:10000746-1761480000-1761490800@gristmillrestaurant.com
SUMMARY:Andrew Kreitz
DESCRIPTION:
URL:https://gristmillrestaurant.com/event/andrew-kreitz-19/
LOCATION:Gristmill River Restaurant & Bar\, 1287 Gruene Rd\, New Braunfels\, TX\, 78130\, United States
CATEGORIES:Free Event
END:VEVENT
END:VCALENDAR