BEGIN:VCALENDAR
VERSION:2.0
PRODID:-//Gristmill River Restaurant &amp; Bar in Historic Gruene - ECPv6.15.11//NONSGML v1.0//EN
CALSCALE:GREGORIAN
METHOD:PUBLISH
X-WR-CALNAME:Gristmill River Restaurant &amp; Bar in Historic Gruene
X-ORIGINAL-URL:https://gristmillrestaurant.com
X-WR-CALDESC:Events for Gristmill River Restaurant &amp; Bar in Historic Gruene
REFRESH-INTERVAL;VALUE=DURATION:PT1H
X-Robots-Tag:noindex
X-PUBLISHED-TTL:PT1H
BEGIN:VTIMEZONE
TZID:America/Chicago
BEGIN:DAYLIGHT
TZOFFSETFROM:-0600
TZOFFSETTO:-0500
TZNAME:CDT
DTSTART:20240310T080000
END:DAYLIGHT
BEGIN:STANDARD
TZOFFSETFROM:-0500
TZOFFSETTO:-0600
TZNAME:CST
DTSTART:20241103T070000
END:STANDARD
BEGIN:DAYLIGHT
TZOFFSETFROM:-0600
TZOFFSETTO:-0500
TZNAME:CDT
DTSTART:20250309T080000
END:DAYLIGHT
BEGIN:STANDARD
TZOFFSETFROM:-0500
TZOFFSETTO:-0600
TZNAME:CST
DTSTART:20251102T070000
END:STANDARD
BEGIN:DAYLIGHT
TZOFFSETFROM:-0600
TZOFFSETTO:-0500
TZNAME:CDT
DTSTART:20260308T080000
END:DAYLIGHT
BEGIN:STANDARD
TZOFFSETFROM:-0500
TZOFFSETTO:-0600
TZNAME:CST
DTSTART:20261101T070000
END:STANDARD
END:VTIMEZONE
BEGIN:VEVENT
DTSTART;TZID=America/Chicago:20251101T120000
DTEND;TZID=America/Chicago:20251101T150000
DTSTAMP:20260423T134816
CREATED:20251024T193813Z
LAST-MODIFIED:20251024T193813Z
UID:10000747-1761998400-1762009200@gristmillrestaurant.com
SUMMARY:Andi Holleman
DESCRIPTION:
URL:https://gristmillrestaurant.com/event/andi-holleman-6/
LOCATION:Gristmill River Restaurant & Bar\, 1287 Gruene Rd\, New Braunfels\, TX\, 78130\, United States
CATEGORIES:Free Event
END:VEVENT
BEGIN:VEVENT
DTSTART;TZID=America/Chicago:20251101T180000
DTEND;TZID=America/Chicago:20251101T210000
DTSTAMP:20260423T134816
CREATED:20251024T193856Z
LAST-MODIFIED:20251024T193856Z
UID:10000748-1762020000-1762030800@gristmillrestaurant.com
SUMMARY:Lance Lipinsky
DESCRIPTION:
URL:https://gristmillrestaurant.com/event/lance-lipinsky-42/
LOCATION:Gristmill River Restaurant & Bar\, 1287 Gruene Rd\, New Braunfels\, TX\, 78130\, United States
CATEGORIES:Free Event
END:VEVENT
BEGIN:VEVENT
DTSTART;TZID=America/Chicago:20251102T120000
DTEND;TZID=America/Chicago:20251102T150000
DTSTAMP:20260423T134816
CREATED:20251024T193941Z
LAST-MODIFIED:20251024T193941Z
UID:10000749-1762084800-1762095600@gristmillrestaurant.com
SUMMARY:Tony Taylor
DESCRIPTION:
URL:https://gristmillrestaurant.com/event/tony-taylor-45/
LOCATION:Gristmill River Restaurant & Bar\, 1287 Gruene Rd\, New Braunfels\, TX\, 78130\, United States
CATEGORIES:Free Event
END:VEVENT
BEGIN:VEVENT
DTSTART;TZID=America/Chicago:20251108T120000
DTEND;TZID=America/Chicago:20251108T150000
DTSTAMP:20260423T134816
CREATED:20251104T230047Z
LAST-MODIFIED:20251105T173030Z
UID:10000763-1762603200-1762614000@gristmillrestaurant.com
SUMMARY:Jake Gardner
DESCRIPTION:
URL:https://gristmillrestaurant.com/event/jp-mccabe-2/
LOCATION:Gristmill River Restaurant & Bar\, 1287 Gruene Rd\, New Braunfels\, TX\, 78130\, United States
CATEGORIES:Free Event
END:VEVENT
BEGIN:VEVENT
DTSTART;TZID=America/Chicago:20251108T180000
DTEND;TZID=America/Chicago:20251108T210000
DTSTAMP:20260423T134816
CREATED:20251024T194027Z
LAST-MODIFIED:20251024T194027Z
UID:10000750-1762624800-1762635600@gristmillrestaurant.com
SUMMARY:Tasman Sharp
DESCRIPTION:
URL:https://gristmillrestaurant.com/event/tasman-sharp-12/
LOCATION:Gristmill River Restaurant & Bar\, 1287 Gruene Rd\, New Braunfels\, TX\, 78130\, United States
CATEGORIES:Free Event
END:VEVENT
BEGIN:VEVENT
DTSTART;TZID=America/Chicago:20251109T120000
DTEND;TZID=America/Chicago:20251109T150000
DTSTAMP:20260423T134816
CREATED:20251024T194106Z
LAST-MODIFIED:20251024T194106Z
UID:10000751-1762689600-1762700400@gristmillrestaurant.com
SUMMARY:Kristen Foreman
DESCRIPTION:
URL:https://gristmillrestaurant.com/event/kristen-foreman/
LOCATION:Gristmill River Restaurant & Bar\, 1287 Gruene Rd\, New Braunfels\, TX\, 78130\, United States
CATEGORIES:Free Event
END:VEVENT
BEGIN:VEVENT
DTSTART;TZID=America/Chicago:20251115T120000
DTEND;TZID=America/Chicago:20251115T150000
DTSTAMP:20260423T134816
CREATED:20251024T194143Z
LAST-MODIFIED:20251024T194143Z
UID:10000752-1763208000-1763218800@gristmillrestaurant.com
SUMMARY:Michael Monroe Goodman
DESCRIPTION:
URL:https://gristmillrestaurant.com/event/michael-monroe-goodman-30/
LOCATION:Gristmill River Restaurant & Bar\, 1287 Gruene Rd\, New Braunfels\, TX\, 78130\, United States
CATEGORIES:Free Event
END:VEVENT
BEGIN:VEVENT
DTSTART;TZID=America/Chicago:20251115T180000
DTEND;TZID=America/Chicago:20251115T210000
DTSTAMP:20260423T134816
CREATED:20251024T194218Z
LAST-MODIFIED:20251024T194218Z
UID:10000753-1763229600-1763240400@gristmillrestaurant.com
SUMMARY:Zoe Allan
DESCRIPTION:
URL:https://gristmillrestaurant.com/event/zoe-allan-2/
LOCATION:Gristmill River Restaurant & Bar\, 1287 Gruene Rd\, New Braunfels\, TX\, 78130\, United States
CATEGORIES:Free Event
END:VEVENT
BEGIN:VEVENT
DTSTART;TZID=America/Chicago:20251122T120000
DTEND;TZID=America/Chicago:20251122T150000
DTSTAMP:20260423T134816
CREATED:20251024T194256Z
LAST-MODIFIED:20251024T194256Z
UID:10000754-1763812800-1763823600@gristmillrestaurant.com
SUMMARY:Julia Rose
DESCRIPTION:
URL:https://gristmillrestaurant.com/event/julia-rose-5/
LOCATION:Gristmill River Restaurant & Bar\, 1287 Gruene Rd\, New Braunfels\, TX\, 78130\, United States
CATEGORIES:Free Event
END:VEVENT
BEGIN:VEVENT
DTSTART;TZID=America/Chicago:20251122T180000
DTEND;TZID=America/Chicago:20251122T210000
DTSTAMP:20260423T134816
CREATED:20251024T194332Z
LAST-MODIFIED:20251024T194332Z
UID:10000755-1763834400-1763845200@gristmillrestaurant.com
SUMMARY:Kearney's Rangers
DESCRIPTION:
URL:https://gristmillrestaurant.com/event/kearneys-rangers-14/
LOCATION:Gristmill River Restaurant & Bar\, 1287 Gruene Rd\, New Braunfels\, TX\, 78130\, United States
CATEGORIES:Free Event
END:VEVENT
BEGIN:VEVENT
DTSTART;TZID=America/Chicago:20251123T120000
DTEND;TZID=America/Chicago:20251123T150000
DTSTAMP:20260423T134816
CREATED:20251024T194426Z
LAST-MODIFIED:20251024T194426Z
UID:10000756-1763899200-1763910000@gristmillrestaurant.com
SUMMARY:Colleen Michelle Miller
DESCRIPTION:
URL:https://gristmillrestaurant.com/event/colleen-michelle-miller/
LOCATION:Gristmill River Restaurant & Bar\, 1287 Gruene Rd\, New Braunfels\, TX\, 78130\, United States
CATEGORIES:Free Event
END:VEVENT
BEGIN:VEVENT
DTSTART;TZID=America/Chicago:20251124T170000
DTEND;TZID=America/Chicago:20251124T200000
DTSTAMP:20260423T134816
CREATED:20251024T194506Z
LAST-MODIFIED:20251024T194506Z
UID:10000757-1764003600-1764014400@gristmillrestaurant.com
SUMMARY:Dan Whitaker
DESCRIPTION:
URL:https://gristmillrestaurant.com/event/dan-whitaker-7/
LOCATION:Gristmill River Restaurant & Bar\, 1287 Gruene Rd\, New Braunfels\, TX\, 78130\, United States
CATEGORIES:Free Event
END:VEVENT
BEGIN:VEVENT
DTSTART;TZID=America/Chicago:20251125T170000
DTEND;TZID=America/Chicago:20251125T200000
DTSTAMP:20260423T134816
CREATED:20251024T194545Z
LAST-MODIFIED:20251024T194545Z
UID:10000758-1764090000-1764100800@gristmillrestaurant.com
SUMMARY:Andrew Kreitz
DESCRIPTION:
URL:https://gristmillrestaurant.com/event/andrew-kreitz-20/
LOCATION:Gristmill River Restaurant & Bar\, 1287 Gruene Rd\, New Braunfels\, TX\, 78130\, United States
CATEGORIES:Free Event
END:VEVENT
BEGIN:VEVENT
DTSTART;TZID=America/Chicago:20251126T170000
DTEND;TZID=America/Chicago:20251126T200000
DTSTAMP:20260423T134816
CREATED:20251024T194618Z
LAST-MODIFIED:20251024T194618Z
UID:10000759-1764176400-1764187200@gristmillrestaurant.com
SUMMARY:True Labowski
DESCRIPTION:
URL:https://gristmillrestaurant.com/event/true-labowski-51/
LOCATION:Gristmill River Restaurant & Bar\, 1287 Gruene Rd\, New Braunfels\, TX\, 78130\, United States
CATEGORIES:Free Event
END:VEVENT
BEGIN:VEVENT
DTSTART;TZID=America/Chicago:20251128T180000
DTEND;TZID=America/Chicago:20251128T210000
DTSTAMP:20260423T134816
CREATED:20251024T194658Z
LAST-MODIFIED:20251024T194658Z
UID:10000760-1764352800-1764363600@gristmillrestaurant.com
SUMMARY:Shelby Rae Marshall
DESCRIPTION:
URL:https://gristmillrestaurant.com/event/shelby-rae-marshall-2/
LOCATION:Gristmill River Restaurant & Bar\, 1287 Gruene Rd\, New Braunfels\, TX\, 78130\, United States
CATEGORIES:Free Event
END:VEVENT
BEGIN:VEVENT
DTSTART;TZID=America/Chicago:20251129T180000
DTEND;TZID=America/Chicago:20251129T210000
DTSTAMP:20260423T134816
CREATED:20251024T194734Z
LAST-MODIFIED:20251024T194734Z
UID:10000761-1764439200-1764450000@gristmillrestaurant.com
SUMMARY:Tasman Sharp
DESCRIPTION:
URL:https://gristmillrestaurant.com/event/tasman-sharp-13/
LOCATION:Gristmill River Restaurant & Bar\, 1287 Gruene Rd\, New Braunfels\, TX\, 78130\, United States
CATEGORIES:Free Event
END:VEVENT
BEGIN:VEVENT
DTSTART;TZID=America/Chicago:20251130T120000
DTEND;TZID=America/Chicago:20251130T143000
DTSTAMP:20260423T134816
CREATED:20251024T194811Z
LAST-MODIFIED:20251024T194811Z
UID:10000762-1764504000-1764513000@gristmillrestaurant.com
SUMMARY:Jake Gardner
DESCRIPTION:
URL:https://gristmillrestaurant.com/event/jake-gardner-4/
LOCATION:Gristmill River Restaurant & Bar\, 1287 Gruene Rd\, New Braunfels\, TX\, 78130\, United States
CATEGORIES:Free Event
END:VEVENT
END:VCALENDAR