BEGIN:VCALENDAR
VERSION:2.0
PRODID:-//Gristmill River Restaurant &amp; Bar in Historic Gruene - ECPv6.15.11//NONSGML v1.0//EN
CALSCALE:GREGORIAN
METHOD:PUBLISH
X-WR-CALNAME:Gristmill River Restaurant &amp; Bar in Historic Gruene
X-ORIGINAL-URL:https://gristmillrestaurant.com
X-WR-CALDESC:Events for Gristmill River Restaurant &amp; Bar in Historic Gruene
REFRESH-INTERVAL;VALUE=DURATION:PT1H
X-Robots-Tag:noindex
X-PUBLISHED-TTL:PT1H
BEGIN:VTIMEZONE
TZID:America/Chicago
BEGIN:DAYLIGHT
TZOFFSETFROM:-0600
TZOFFSETTO:-0500
TZNAME:CDT
DTSTART:20240310T080000
END:DAYLIGHT
BEGIN:STANDARD
TZOFFSETFROM:-0500
TZOFFSETTO:-0600
TZNAME:CST
DTSTART:20241103T070000
END:STANDARD
BEGIN:DAYLIGHT
TZOFFSETFROM:-0600
TZOFFSETTO:-0500
TZNAME:CDT
DTSTART:20250309T080000
END:DAYLIGHT
BEGIN:STANDARD
TZOFFSETFROM:-0500
TZOFFSETTO:-0600
TZNAME:CST
DTSTART:20251102T070000
END:STANDARD
BEGIN:DAYLIGHT
TZOFFSETFROM:-0600
TZOFFSETTO:-0500
TZNAME:CDT
DTSTART:20260308T080000
END:DAYLIGHT
BEGIN:STANDARD
TZOFFSETFROM:-0500
TZOFFSETTO:-0600
TZNAME:CST
DTSTART:20261101T070000
END:STANDARD
END:VTIMEZONE
BEGIN:VEVENT
DTSTART;TZID=America/Chicago:20251206T120000
DTEND;TZID=America/Chicago:20251206T150000
DTSTAMP:20260423T122839
CREATED:20251121T223121Z
LAST-MODIFIED:20251121T223121Z
UID:10000764-1765022400-1765033200@gristmillrestaurant.com
SUMMARY:Michael Monroe Goodman
DESCRIPTION:
URL:https://gristmillrestaurant.com/event/michael-monroe-goodman-31/
LOCATION:Gristmill River Restaurant & Bar\, 1287 Gruene Rd\, New Braunfels\, TX\, 78130\, United States
CATEGORIES:Free Event
END:VEVENT
BEGIN:VEVENT
DTSTART;TZID=America/Chicago:20251206T181500
DTEND;TZID=America/Chicago:20251206T211500
DTSTAMP:20260423T122839
CREATED:20251121T223232Z
LAST-MODIFIED:20251121T223232Z
UID:10000765-1765044900-1765055700@gristmillrestaurant.com
SUMMARY:Hannah Swann
DESCRIPTION:
URL:https://gristmillrestaurant.com/event/hannah-swann-10/
LOCATION:Gristmill River Restaurant & Bar\, 1287 Gruene Rd\, New Braunfels\, TX\, 78130\, United States
CATEGORIES:Free Event
END:VEVENT
BEGIN:VEVENT
DTSTART;TZID=America/Chicago:20251207T120000
DTEND;TZID=America/Chicago:20251207T150000
DTSTAMP:20260423T122839
CREATED:20251121T223336Z
LAST-MODIFIED:20251121T223336Z
UID:10000766-1765108800-1765119600@gristmillrestaurant.com
SUMMARY:Lance Lipinsky
DESCRIPTION:
URL:https://gristmillrestaurant.com/event/lance-lipinsky-43/
LOCATION:Gristmill River Restaurant & Bar\, 1287 Gruene Rd\, New Braunfels\, TX\, 78130\, United States
CATEGORIES:Free Event
END:VEVENT
BEGIN:VEVENT
DTSTART;TZID=America/Chicago:20251213T123000
DTEND;TZID=America/Chicago:20251213T153000
DTSTAMP:20260423T122839
CREATED:20251121T223442Z
LAST-MODIFIED:20251121T223442Z
UID:10000767-1765629000-1765639800@gristmillrestaurant.com
SUMMARY:Clayton Chapin
DESCRIPTION:
URL:https://gristmillrestaurant.com/event/clayton-chapin-2/
LOCATION:Gristmill River Restaurant & Bar\, 1287 Gruene Rd\, New Braunfels\, TX\, 78130\, United States
CATEGORIES:Free Event
END:VEVENT
BEGIN:VEVENT
DTSTART;TZID=America/Chicago:20251213T180000
DTEND;TZID=America/Chicago:20251213T210000
DTSTAMP:20260423T122839
CREATED:20251121T223523Z
LAST-MODIFIED:20251121T223523Z
UID:10000768-1765648800-1765659600@gristmillrestaurant.com
SUMMARY:Nick Garcia
DESCRIPTION:
URL:https://gristmillrestaurant.com/event/nick-garcia-2/
LOCATION:Gristmill River Restaurant & Bar\, 1287 Gruene Rd\, New Braunfels\, TX\, 78130\, United States
CATEGORIES:Free Event
END:VEVENT
BEGIN:VEVENT
DTSTART;TZID=America/Chicago:20251214T123000
DTEND;TZID=America/Chicago:20251214T153000
DTSTAMP:20260423T122839
CREATED:20251121T223609Z
LAST-MODIFIED:20251121T223609Z
UID:10000769-1765715400-1765726200@gristmillrestaurant.com
SUMMARY:Colton's Kin
DESCRIPTION:
URL:https://gristmillrestaurant.com/event/coltons-kin-41/
LOCATION:Gristmill River Restaurant & Bar\, 1287 Gruene Rd\, New Braunfels\, TX\, 78130\, United States
CATEGORIES:Free Event
END:VEVENT
BEGIN:VEVENT
DTSTART;TZID=America/Chicago:20251219T180000
DTEND;TZID=America/Chicago:20251219T210000
DTSTAMP:20260423T122839
CREATED:20251121T223711Z
LAST-MODIFIED:20251121T223711Z
UID:10000770-1766167200-1766178000@gristmillrestaurant.com
SUMMARY:Kearney's Rangers
DESCRIPTION:
URL:https://gristmillrestaurant.com/event/kearneys-rangers-15/
LOCATION:Gristmill River Restaurant & Bar\, 1287 Gruene Rd\, New Braunfels\, TX\, 78130\, United States
CATEGORIES:Free Event
END:VEVENT
BEGIN:VEVENT
DTSTART;TZID=America/Chicago:20251220T123000
DTEND;TZID=America/Chicago:20251220T153000
DTSTAMP:20260423T122839
CREATED:20251121T223805Z
LAST-MODIFIED:20251121T223805Z
UID:10000771-1766233800-1766244600@gristmillrestaurant.com
SUMMARY:Kyle Reed Hemmen
DESCRIPTION:
URL:https://gristmillrestaurant.com/event/kyle-reed-hemmen/
LOCATION:Gristmill River Restaurant & Bar\, 1287 Gruene Rd\, New Braunfels\, TX\, 78130\, United States
CATEGORIES:Free Event
END:VEVENT
BEGIN:VEVENT
DTSTART;TZID=America/Chicago:20251220T180000
DTEND;TZID=America/Chicago:20251220T210000
DTSTAMP:20260423T122839
CREATED:20251121T223905Z
LAST-MODIFIED:20251121T223905Z
UID:10000772-1766253600-1766264400@gristmillrestaurant.com
SUMMARY:Don Reilly
DESCRIPTION:
URL:https://gristmillrestaurant.com/event/don-reilly/
LOCATION:Gristmill River Restaurant & Bar\, 1287 Gruene Rd\, New Braunfels\, TX\, 78130\, United States
CATEGORIES:Free Event
END:VEVENT
BEGIN:VEVENT
DTSTART;TZID=America/Chicago:20251221T123000
DTEND;TZID=America/Chicago:20251221T153000
DTSTAMP:20260423T122839
CREATED:20251121T223953Z
LAST-MODIFIED:20251121T223953Z
UID:10000773-1766320200-1766331000@gristmillrestaurant.com
SUMMARY:Dan Whitaker
DESCRIPTION:
URL:https://gristmillrestaurant.com/event/dan-whitaker-8/
LOCATION:Gristmill River Restaurant & Bar\, 1287 Gruene Rd\, New Braunfels\, TX\, 78130\, United States
CATEGORIES:Free Event
END:VEVENT
BEGIN:VEVENT
DTSTART;TZID=America/Chicago:20251222T123000
DTEND;TZID=America/Chicago:20251222T153000
DTSTAMP:20260423T122839
CREATED:20251121T224412Z
LAST-MODIFIED:20251121T224412Z
UID:10000774-1766406600-1766417400@gristmillrestaurant.com
SUMMARY:Tony Taylor
DESCRIPTION:
URL:https://gristmillrestaurant.com/event/tony-taylor-46/
LOCATION:Gristmill River Restaurant & Bar\, 1287 Gruene Rd\, New Braunfels\, TX\, 78130\, United States
CATEGORIES:Free Event
END:VEVENT
BEGIN:VEVENT
DTSTART;TZID=America/Chicago:20251223T123000
DTEND;TZID=America/Chicago:20251223T153000
DTSTAMP:20260423T122839
CREATED:20251121T224702Z
LAST-MODIFIED:20251121T224702Z
UID:10000775-1766493000-1766503800@gristmillrestaurant.com
SUMMARY:True Labowski
DESCRIPTION:
URL:https://gristmillrestaurant.com/event/true-labowski-52/
LOCATION:Gristmill River Restaurant & Bar\, 1287 Gruene Rd\, New Braunfels\, TX\, 78130\, United States
CATEGORIES:Free Event
END:VEVENT
BEGIN:VEVENT
DTSTART;TZID=America/Chicago:20251223T180000
DTEND;TZID=America/Chicago:20251223T210000
DTSTAMP:20260423T122839
CREATED:20251121T224750Z
LAST-MODIFIED:20251121T224750Z
UID:10000776-1766512800-1766523600@gristmillrestaurant.com
SUMMARY:Andi Holleman
DESCRIPTION:
URL:https://gristmillrestaurant.com/event/andi-holleman-7/
LOCATION:Gristmill River Restaurant & Bar\, 1287 Gruene Rd\, New Braunfels\, TX\, 78130\, United States
CATEGORIES:Free Event
END:VEVENT
BEGIN:VEVENT
DTSTART;TZID=America/Chicago:20251226T123000
DTEND;TZID=America/Chicago:20251226T153000
DTSTAMP:20260423T122839
CREATED:20251121T224914Z
LAST-MODIFIED:20251121T224914Z
UID:10000777-1766752200-1766763000@gristmillrestaurant.com
SUMMARY:Austin Gilliam
DESCRIPTION:
URL:https://gristmillrestaurant.com/event/austin-gilliam-18/
LOCATION:Gristmill River Restaurant & Bar\, 1287 Gruene Rd\, New Braunfels\, TX\, 78130\, United States
CATEGORIES:Free Event
END:VEVENT
BEGIN:VEVENT
DTSTART;TZID=America/Chicago:20251226T180000
DTEND;TZID=America/Chicago:20251226T210000
DTSTAMP:20260423T122839
CREATED:20251121T225012Z
LAST-MODIFIED:20251121T225012Z
UID:10000778-1766772000-1766782800@gristmillrestaurant.com
SUMMARY:Jake Gardner
DESCRIPTION:
URL:https://gristmillrestaurant.com/event/jake-gardner-5/
LOCATION:Gristmill River Restaurant & Bar\, 1287 Gruene Rd\, New Braunfels\, TX\, 78130\, United States
CATEGORIES:Free Event
END:VEVENT
BEGIN:VEVENT
DTSTART;TZID=America/Chicago:20251227T120000
DTEND;TZID=America/Chicago:20251227T150000
DTSTAMP:20260423T122839
CREATED:20251121T225125Z
LAST-MODIFIED:20251121T225125Z
UID:10000779-1766836800-1766847600@gristmillrestaurant.com
SUMMARY:Ethan Hanson
DESCRIPTION:
URL:https://gristmillrestaurant.com/event/ethan-hanson-23/
LOCATION:Gristmill River Restaurant & Bar\, 1287 Gruene Rd\, New Braunfels\, TX\, 78130\, United States
CATEGORIES:Free Event
END:VEVENT
BEGIN:VEVENT
DTSTART;TZID=America/Chicago:20251227T180000
DTEND;TZID=America/Chicago:20251227T210000
DTSTAMP:20260423T122839
CREATED:20251121T225213Z
LAST-MODIFIED:20251121T225213Z
UID:10000780-1766858400-1766869200@gristmillrestaurant.com
SUMMARY:Colton's Kin
DESCRIPTION:
URL:https://gristmillrestaurant.com/event/coltons-kin-42/
LOCATION:Gristmill River Restaurant & Bar\, 1287 Gruene Rd\, New Braunfels\, TX\, 78130\, United States
CATEGORIES:Free Event
END:VEVENT
BEGIN:VEVENT
DTSTART;TZID=America/Chicago:20251228T120000
DTEND;TZID=America/Chicago:20251228T150000
DTSTAMP:20260423T122839
CREATED:20251121T225307Z
LAST-MODIFIED:20251121T225307Z
UID:10000781-1766923200-1766934000@gristmillrestaurant.com
SUMMARY:Clayton Chapin
DESCRIPTION:
URL:https://gristmillrestaurant.com/event/clayton-chapin-3/
LOCATION:Gristmill River Restaurant & Bar\, 1287 Gruene Rd\, New Braunfels\, TX\, 78130\, United States
CATEGORIES:Free Event
END:VEVENT
BEGIN:VEVENT
DTSTART;TZID=America/Chicago:20251228T180000
DTEND;TZID=America/Chicago:20251228T210000
DTSTAMP:20260423T122839
CREATED:20251121T225346Z
LAST-MODIFIED:20251121T225346Z
UID:10000782-1766944800-1766955600@gristmillrestaurant.com
SUMMARY:Nick Garcia
DESCRIPTION:
URL:https://gristmillrestaurant.com/event/nick-garcia-3/
LOCATION:Gristmill River Restaurant & Bar\, 1287 Gruene Rd\, New Braunfels\, TX\, 78130\, United States
CATEGORIES:Free Event
END:VEVENT
BEGIN:VEVENT
DTSTART;TZID=America/Chicago:20251229T120000
DTEND;TZID=America/Chicago:20251229T150000
DTSTAMP:20260423T122839
CREATED:20251121T225428Z
LAST-MODIFIED:20251121T225428Z
UID:10000783-1767009600-1767020400@gristmillrestaurant.com
SUMMARY:Owen Stroud
DESCRIPTION:
URL:https://gristmillrestaurant.com/event/owen-stroud-2/
LOCATION:Gristmill River Restaurant & Bar\, 1287 Gruene Rd\, New Braunfels\, TX\, 78130\, United States
CATEGORIES:Free Event
END:VEVENT
BEGIN:VEVENT
DTSTART;TZID=America/Chicago:20251230T120000
DTEND;TZID=America/Chicago:20251230T150000
DTSTAMP:20260423T122839
CREATED:20251121T225503Z
LAST-MODIFIED:20251121T225503Z
UID:10000784-1767096000-1767106800@gristmillrestaurant.com
SUMMARY:Dylan Rhys
DESCRIPTION:
URL:https://gristmillrestaurant.com/event/dylan-rhys-3/
LOCATION:Gristmill River Restaurant & Bar\, 1287 Gruene Rd\, New Braunfels\, TX\, 78130\, United States
CATEGORIES:Free Event
END:VEVENT
BEGIN:VEVENT
DTSTART;TZID=America/Chicago:20251231T120000
DTEND;TZID=America/Chicago:20251231T150000
DTSTAMP:20260423T122839
CREATED:20251121T225540Z
LAST-MODIFIED:20251121T225540Z
UID:10000785-1767182400-1767193200@gristmillrestaurant.com
SUMMARY:Tony Taylor
DESCRIPTION:
URL:https://gristmillrestaurant.com/event/tony-taylor-47/
LOCATION:Gristmill River Restaurant & Bar\, 1287 Gruene Rd\, New Braunfels\, TX\, 78130\, United States
CATEGORIES:Free Event
END:VEVENT
BEGIN:VEVENT
DTSTART;TZID=America/Chicago:20251231T180000
DTEND;TZID=America/Chicago:20251231T210000
DTSTAMP:20260423T122839
CREATED:20251121T225710Z
LAST-MODIFIED:20251121T225710Z
UID:10000786-1767204000-1767214800@gristmillrestaurant.com
SUMMARY:Tasman Sharp
DESCRIPTION:
URL:https://gristmillrestaurant.com/event/tasman-sharp-14/
LOCATION:Gristmill River Restaurant & Bar\, 1287 Gruene Rd\, New Braunfels\, TX\, 78130\, United States
CATEGORIES:Free Event
END:VEVENT
END:VCALENDAR