BEGIN:VCALENDAR
VERSION:2.0
PRODID:-//Gristmill River Restaurant &amp; Bar in Historic Gruene - ECPv6.15.11//NONSGML v1.0//EN
CALSCALE:GREGORIAN
METHOD:PUBLISH
X-ORIGINAL-URL:https://gristmillrestaurant.com
X-WR-CALDESC:Events for Gristmill River Restaurant &amp; Bar in Historic Gruene
REFRESH-INTERVAL;VALUE=DURATION:PT1H
X-Robots-Tag:noindex
X-PUBLISHED-TTL:PT1H
BEGIN:VTIMEZONE
TZID:America/Chicago
BEGIN:DAYLIGHT
TZOFFSETFROM:-0600
TZOFFSETTO:-0500
TZNAME:CDT
DTSTART:20240310T080000
END:DAYLIGHT
BEGIN:STANDARD
TZOFFSETFROM:-0500
TZOFFSETTO:-0600
TZNAME:CST
DTSTART:20241103T070000
END:STANDARD
BEGIN:DAYLIGHT
TZOFFSETFROM:-0600
TZOFFSETTO:-0500
TZNAME:CDT
DTSTART:20250309T080000
END:DAYLIGHT
BEGIN:STANDARD
TZOFFSETFROM:-0500
TZOFFSETTO:-0600
TZNAME:CST
DTSTART:20251102T070000
END:STANDARD
BEGIN:DAYLIGHT
TZOFFSETFROM:-0600
TZOFFSETTO:-0500
TZNAME:CDT
DTSTART:20260308T080000
END:DAYLIGHT
BEGIN:STANDARD
TZOFFSETFROM:-0500
TZOFFSETTO:-0600
TZNAME:CST
DTSTART:20261101T070000
END:STANDARD
END:VTIMEZONE
BEGIN:VEVENT
DTSTART;TZID=America/Chicago:20250525T120000
DTEND;TZID=America/Chicago:20250525T150000
DTSTAMP:20260424T001151
CREATED:20250428T191118Z
LAST-MODIFIED:20250428T191118Z
UID:10000673-1748174400-1748185200@gristmillrestaurant.com
SUMMARY:Tony Taylor
DESCRIPTION:
URL:https://gristmillrestaurant.com/event/tony-taylor-41/
LOCATION:Gristmill River Restaurant & Bar\, 1287 Gruene Rd\, New Braunfels\, TX\, 78130\, United States
CATEGORIES:Free Event
END:VEVENT
BEGIN:VEVENT
DTSTART;TZID=America/Chicago:20250525T183000
DTEND;TZID=America/Chicago:20250525T223000
DTSTAMP:20260424T001151
CREATED:20250428T191157Z
LAST-MODIFIED:20250428T191157Z
UID:10000674-1748197800-1748212200@gristmillrestaurant.com
SUMMARY:Ethan Hanson
DESCRIPTION:
URL:https://gristmillrestaurant.com/event/ethan-hanson-22/
LOCATION:Gristmill River Restaurant & Bar\, 1287 Gruene Rd\, New Braunfels\, TX\, 78130\, United States
CATEGORIES:Free Event
END:VEVENT
END:VCALENDAR