BEGIN:VCALENDAR
VERSION:2.0
PRODID:-//Gristmill River Restaurant &amp; Bar in Historic Gruene - ECPv6.15.11//NONSGML v1.0//EN
CALSCALE:GREGORIAN
METHOD:PUBLISH
X-WR-CALNAME:Gristmill River Restaurant &amp; Bar in Historic Gruene
X-ORIGINAL-URL:https://gristmillrestaurant.com
X-WR-CALDESC:Events for Gristmill River Restaurant &amp; Bar in Historic Gruene
REFRESH-INTERVAL;VALUE=DURATION:PT1H
X-Robots-Tag:noindex
X-PUBLISHED-TTL:PT1H
BEGIN:VTIMEZONE
TZID:America/Chicago
BEGIN:DAYLIGHT
TZOFFSETFROM:-0600
TZOFFSETTO:-0500
TZNAME:CDT
DTSTART:20250309T080000
END:DAYLIGHT
BEGIN:STANDARD
TZOFFSETFROM:-0500
TZOFFSETTO:-0600
TZNAME:CST
DTSTART:20251102T070000
END:STANDARD
BEGIN:DAYLIGHT
TZOFFSETFROM:-0600
TZOFFSETTO:-0500
TZNAME:CDT
DTSTART:20260308T080000
END:DAYLIGHT
BEGIN:STANDARD
TZOFFSETFROM:-0500
TZOFFSETTO:-0600
TZNAME:CST
DTSTART:20261101T070000
END:STANDARD
BEGIN:DAYLIGHT
TZOFFSETFROM:-0600
TZOFFSETTO:-0500
TZNAME:CDT
DTSTART:20270314T080000
END:DAYLIGHT
BEGIN:STANDARD
TZOFFSETFROM:-0500
TZOFFSETTO:-0600
TZNAME:CST
DTSTART:20271107T070000
END:STANDARD
END:VTIMEZONE
BEGIN:VEVENT
DTSTART;TZID=America/Chicago:20260425T123000
DTEND;TZID=America/Chicago:20260425T153000
DTSTAMP:20260423T064634
CREATED:20260413T204006Z
LAST-MODIFIED:20260413T204006Z
UID:10000841-1777120200-1777131000@gristmillrestaurant.com
SUMMARY:Dan Whitaker
DESCRIPTION:
URL:https://gristmillrestaurant.com/event/dan-whitaker-11/
LOCATION:Gristmill River Restaurant & Bar\, 1287 Gruene Rd\, New Braunfels\, TX\, 78130\, United States
CATEGORIES:Free Event
END:VEVENT
BEGIN:VEVENT
DTSTART;TZID=America/Chicago:20260425T180000
DTEND;TZID=America/Chicago:20260425T210000
DTSTAMP:20260423T064634
CREATED:20260413T204035Z
LAST-MODIFIED:20260413T204035Z
UID:10000842-1777140000-1777150800@gristmillrestaurant.com
SUMMARY:Kearney's Rangers
DESCRIPTION:
URL:https://gristmillrestaurant.com/event/kearneys-rangers-17/
LOCATION:Gristmill River Restaurant & Bar\, 1287 Gruene Rd\, New Braunfels\, TX\, 78130\, United States
CATEGORIES:Free Event
END:VEVENT
BEGIN:VEVENT
DTSTART;TZID=America/Chicago:20260426T120000
DTEND;TZID=America/Chicago:20260426T150000
DTSTAMP:20260423T064634
CREATED:20260218T161611Z
LAST-MODIFIED:20260415T205409Z
UID:10000835-1777204800-1777215600@gristmillrestaurant.com
SUMMARY:True Labowski
DESCRIPTION:
URL:https://gristmillrestaurant.com/event/matt-kirk-40/
LOCATION:Gristmill River Restaurant & Bar\, 1287 Gruene Rd\, New Braunfels\, TX\, 78130\, United States
CATEGORIES:Free Event
END:VEVENT
END:VCALENDAR