BEGIN:VCALENDAR
VERSION:2.0
PRODID:-//Gristmill River Restaurant &amp; Bar in Historic Gruene - ECPv6.15.11//NONSGML v1.0//EN
CALSCALE:GREGORIAN
METHOD:PUBLISH
X-WR-CALNAME:Gristmill River Restaurant &amp; Bar in Historic Gruene
X-ORIGINAL-URL:https://gristmillrestaurant.com
X-WR-CALDESC:Events for Gristmill River Restaurant &amp; Bar in Historic Gruene
REFRESH-INTERVAL;VALUE=DURATION:PT1H
X-Robots-Tag:noindex
X-PUBLISHED-TTL:PT1H
BEGIN:VTIMEZONE
TZID:America/Chicago
BEGIN:DAYLIGHT
TZOFFSETFROM:-0600
TZOFFSETTO:-0500
TZNAME:CDT
DTSTART:20240310T080000
END:DAYLIGHT
BEGIN:STANDARD
TZOFFSETFROM:-0500
TZOFFSETTO:-0600
TZNAME:CST
DTSTART:20241103T070000
END:STANDARD
BEGIN:DAYLIGHT
TZOFFSETFROM:-0600
TZOFFSETTO:-0500
TZNAME:CDT
DTSTART:20250309T080000
END:DAYLIGHT
BEGIN:STANDARD
TZOFFSETFROM:-0500
TZOFFSETTO:-0600
TZNAME:CST
DTSTART:20251102T070000
END:STANDARD
BEGIN:DAYLIGHT
TZOFFSETFROM:-0600
TZOFFSETTO:-0500
TZNAME:CDT
DTSTART:20260308T080000
END:DAYLIGHT
BEGIN:STANDARD
TZOFFSETFROM:-0500
TZOFFSETTO:-0600
TZNAME:CST
DTSTART:20261101T070000
END:STANDARD
BEGIN:DAYLIGHT
TZOFFSETFROM:-0600
TZOFFSETTO:-0500
TZNAME:CDT
DTSTART:20270314T080000
END:DAYLIGHT
BEGIN:STANDARD
TZOFFSETFROM:-0500
TZOFFSETTO:-0600
TZNAME:CST
DTSTART:20271107T070000
END:STANDARD
END:VTIMEZONE
BEGIN:VEVENT
DTSTART;TZID=America/Chicago:20251223T180000
DTEND;TZID=America/Chicago:20251223T210000
DTSTAMP:20260424T030712
CREATED:20251121T224750Z
LAST-MODIFIED:20251121T224750Z
UID:10000776-1766512800-1766523600@gristmillrestaurant.com
SUMMARY:Andi Holleman
DESCRIPTION:
URL:https://gristmillrestaurant.com/event/andi-holleman-7/
LOCATION:Gristmill River Restaurant & Bar\, 1287 Gruene Rd\, New Braunfels\, TX\, 78130\, United States
CATEGORIES:Free Event
END:VEVENT
BEGIN:VEVENT
DTSTART;TZID=America/Chicago:20251226T123000
DTEND;TZID=America/Chicago:20251226T153000
DTSTAMP:20260424T030712
CREATED:20251121T224914Z
LAST-MODIFIED:20251121T224914Z
UID:10000777-1766752200-1766763000@gristmillrestaurant.com
SUMMARY:Austin Gilliam
DESCRIPTION:
URL:https://gristmillrestaurant.com/event/austin-gilliam-18/
LOCATION:Gristmill River Restaurant & Bar\, 1287 Gruene Rd\, New Braunfels\, TX\, 78130\, United States
CATEGORIES:Free Event
END:VEVENT
BEGIN:VEVENT
DTSTART;TZID=America/Chicago:20251226T180000
DTEND;TZID=America/Chicago:20251226T210000
DTSTAMP:20260424T030712
CREATED:20251121T225012Z
LAST-MODIFIED:20251121T225012Z
UID:10000778-1766772000-1766782800@gristmillrestaurant.com
SUMMARY:Jake Gardner
DESCRIPTION:
URL:https://gristmillrestaurant.com/event/jake-gardner-5/
LOCATION:Gristmill River Restaurant & Bar\, 1287 Gruene Rd\, New Braunfels\, TX\, 78130\, United States
CATEGORIES:Free Event
END:VEVENT
BEGIN:VEVENT
DTSTART;TZID=America/Chicago:20251227T120000
DTEND;TZID=America/Chicago:20251227T150000
DTSTAMP:20260424T030712
CREATED:20251121T225125Z
LAST-MODIFIED:20251121T225125Z
UID:10000779-1766836800-1766847600@gristmillrestaurant.com
SUMMARY:Ethan Hanson
DESCRIPTION:
URL:https://gristmillrestaurant.com/event/ethan-hanson-23/
LOCATION:Gristmill River Restaurant & Bar\, 1287 Gruene Rd\, New Braunfels\, TX\, 78130\, United States
CATEGORIES:Free Event
END:VEVENT
BEGIN:VEVENT
DTSTART;TZID=America/Chicago:20251227T180000
DTEND;TZID=America/Chicago:20251227T210000
DTSTAMP:20260424T030712
CREATED:20251121T225213Z
LAST-MODIFIED:20251121T225213Z
UID:10000780-1766858400-1766869200@gristmillrestaurant.com
SUMMARY:Colton's Kin
DESCRIPTION:
URL:https://gristmillrestaurant.com/event/coltons-kin-42/
LOCATION:Gristmill River Restaurant & Bar\, 1287 Gruene Rd\, New Braunfels\, TX\, 78130\, United States
CATEGORIES:Free Event
END:VEVENT
BEGIN:VEVENT
DTSTART;TZID=America/Chicago:20251228T120000
DTEND;TZID=America/Chicago:20251228T150000
DTSTAMP:20260424T030712
CREATED:20251121T225307Z
LAST-MODIFIED:20251121T225307Z
UID:10000781-1766923200-1766934000@gristmillrestaurant.com
SUMMARY:Clayton Chapin
DESCRIPTION:
URL:https://gristmillrestaurant.com/event/clayton-chapin-3/
LOCATION:Gristmill River Restaurant & Bar\, 1287 Gruene Rd\, New Braunfels\, TX\, 78130\, United States
CATEGORIES:Free Event
END:VEVENT
BEGIN:VEVENT
DTSTART;TZID=America/Chicago:20251228T180000
DTEND;TZID=America/Chicago:20251228T210000
DTSTAMP:20260424T030712
CREATED:20251121T225346Z
LAST-MODIFIED:20251121T225346Z
UID:10000782-1766944800-1766955600@gristmillrestaurant.com
SUMMARY:Nick Garcia
DESCRIPTION:
URL:https://gristmillrestaurant.com/event/nick-garcia-3/
LOCATION:Gristmill River Restaurant & Bar\, 1287 Gruene Rd\, New Braunfels\, TX\, 78130\, United States
CATEGORIES:Free Event
END:VEVENT
BEGIN:VEVENT
DTSTART;TZID=America/Chicago:20251229T120000
DTEND;TZID=America/Chicago:20251229T150000
DTSTAMP:20260424T030712
CREATED:20251121T225428Z
LAST-MODIFIED:20251121T225428Z
UID:10000783-1767009600-1767020400@gristmillrestaurant.com
SUMMARY:Owen Stroud
DESCRIPTION:
URL:https://gristmillrestaurant.com/event/owen-stroud-2/
LOCATION:Gristmill River Restaurant & Bar\, 1287 Gruene Rd\, New Braunfels\, TX\, 78130\, United States
CATEGORIES:Free Event
END:VEVENT
BEGIN:VEVENT
DTSTART;TZID=America/Chicago:20251230T120000
DTEND;TZID=America/Chicago:20251230T150000
DTSTAMP:20260424T030712
CREATED:20251121T225503Z
LAST-MODIFIED:20251121T225503Z
UID:10000784-1767096000-1767106800@gristmillrestaurant.com
SUMMARY:Dylan Rhys
DESCRIPTION:
URL:https://gristmillrestaurant.com/event/dylan-rhys-3/
LOCATION:Gristmill River Restaurant & Bar\, 1287 Gruene Rd\, New Braunfels\, TX\, 78130\, United States
CATEGORIES:Free Event
END:VEVENT
BEGIN:VEVENT
DTSTART;TZID=America/Chicago:20251231T120000
DTEND;TZID=America/Chicago:20251231T150000
DTSTAMP:20260424T030712
CREATED:20251121T225540Z
LAST-MODIFIED:20251121T225540Z
UID:10000785-1767182400-1767193200@gristmillrestaurant.com
SUMMARY:Tony Taylor
DESCRIPTION:
URL:https://gristmillrestaurant.com/event/tony-taylor-47/
LOCATION:Gristmill River Restaurant & Bar\, 1287 Gruene Rd\, New Braunfels\, TX\, 78130\, United States
CATEGORIES:Free Event
END:VEVENT
BEGIN:VEVENT
DTSTART;TZID=America/Chicago:20251231T180000
DTEND;TZID=America/Chicago:20251231T210000
DTSTAMP:20260424T030712
CREATED:20251121T225710Z
LAST-MODIFIED:20251121T225710Z
UID:10000786-1767204000-1767214800@gristmillrestaurant.com
SUMMARY:Tasman Sharp
DESCRIPTION:
URL:https://gristmillrestaurant.com/event/tasman-sharp-14/
LOCATION:Gristmill River Restaurant & Bar\, 1287 Gruene Rd\, New Braunfels\, TX\, 78130\, United States
CATEGORIES:Free Event
END:VEVENT
BEGIN:VEVENT
DTSTART;TZID=America/Chicago:20260101T120000
DTEND;TZID=America/Chicago:20260101T150000
DTSTAMP:20260424T030712
CREATED:20251121T225759Z
LAST-MODIFIED:20251121T225759Z
UID:10000787-1767268800-1767279600@gristmillrestaurant.com
SUMMARY:Michael Monroe Goodman
DESCRIPTION:
URL:https://gristmillrestaurant.com/event/michael-monroe-goodman-32/
LOCATION:Gristmill River Restaurant & Bar\, 1287 Gruene Rd\, New Braunfels\, TX\, 78130\, United States
CATEGORIES:Free Event
END:VEVENT
BEGIN:VEVENT
DTSTART;TZID=America/Chicago:20260101T180000
DTEND;TZID=America/Chicago:20260101T210000
DTSTAMP:20260424T030712
CREATED:20251124T143422Z
LAST-MODIFIED:20251124T143422Z
UID:10000788-1767290400-1767301200@gristmillrestaurant.com
SUMMARY:Kearney's Rangers
DESCRIPTION:
URL:https://gristmillrestaurant.com/event/kearneys-rangers-16/
LOCATION:Gristmill River Restaurant & Bar\, 1287 Gruene Rd\, New Braunfels\, TX\, 78130\, United States
CATEGORIES:Free Event
END:VEVENT
BEGIN:VEVENT
DTSTART;TZID=America/Chicago:20260102T123000
DTEND;TZID=America/Chicago:20260102T153000
DTSTAMP:20260424T030712
CREATED:20251124T143649Z
LAST-MODIFIED:20251124T143649Z
UID:10000789-1767357000-1767367800@gristmillrestaurant.com
SUMMARY:Don Reilly
DESCRIPTION:
URL:https://gristmillrestaurant.com/event/don-reilly-2/
LOCATION:Gristmill River Restaurant & Bar\, 1287 Gruene Rd\, New Braunfels\, TX\, 78130\, United States
CATEGORIES:Free Event
END:VEVENT
BEGIN:VEVENT
DTSTART;TZID=America/Chicago:20260102T173000
DTEND;TZID=America/Chicago:20260102T203000
DTSTAMP:20260424T030712
CREATED:20251124T143731Z
LAST-MODIFIED:20251124T143731Z
UID:10000790-1767375000-1767385800@gristmillrestaurant.com
SUMMARY:Lance Lipinsky
DESCRIPTION:
URL:https://gristmillrestaurant.com/event/lance-lipinsky-44/
LOCATION:Gristmill River Restaurant & Bar\, 1287 Gruene Rd\, New Braunfels\, TX\, 78130\, United States
CATEGORIES:Free Event
END:VEVENT
BEGIN:VEVENT
DTSTART;TZID=America/Chicago:20260103T123000
DTEND;TZID=America/Chicago:20260103T153000
DTSTAMP:20260424T030712
CREATED:20251124T143836Z
LAST-MODIFIED:20251124T143836Z
UID:10000791-1767443400-1767454200@gristmillrestaurant.com
SUMMARY:Austin Gilliam
DESCRIPTION:
URL:https://gristmillrestaurant.com/event/austin-gilliam-19/
LOCATION:Gristmill River Restaurant & Bar\, 1287 Gruene Rd\, New Braunfels\, TX\, 78130\, United States
CATEGORIES:Free Event
END:VEVENT
BEGIN:VEVENT
DTSTART;TZID=America/Chicago:20260103T180000
DTEND;TZID=America/Chicago:20260103T210000
DTSTAMP:20260424T030712
CREATED:20251124T144021Z
LAST-MODIFIED:20251124T144021Z
UID:10000792-1767463200-1767474000@gristmillrestaurant.com
SUMMARY:True Labowski
DESCRIPTION:
URL:https://gristmillrestaurant.com/event/true-labowski-53/
LOCATION:Gristmill River Restaurant & Bar\, 1287 Gruene Rd\, New Braunfels\, TX\, 78130\, United States
CATEGORIES:Free Event
END:VEVENT
BEGIN:VEVENT
DTSTART;TZID=America/Chicago:20260104T123000
DTEND;TZID=America/Chicago:20260104T153000
DTSTAMP:20260424T030712
CREATED:20251124T144252Z
LAST-MODIFIED:20251124T144252Z
UID:10000793-1767529800-1767540600@gristmillrestaurant.com
SUMMARY:Dan Whitaker
DESCRIPTION:
URL:https://gristmillrestaurant.com/event/dan-whitaker-9/
LOCATION:Gristmill River Restaurant & Bar\, 1287 Gruene Rd\, New Braunfels\, TX\, 78130\, United States
CATEGORIES:Free Event
END:VEVENT
BEGIN:VEVENT
DTSTART;TZID=America/Chicago:20260104T180000
DTEND;TZID=America/Chicago:20260104T210000
DTSTAMP:20260424T030712
CREATED:20251124T144343Z
LAST-MODIFIED:20251124T144343Z
UID:10000794-1767549600-1767560400@gristmillrestaurant.com
SUMMARY:Nick Garcia
DESCRIPTION:
URL:https://gristmillrestaurant.com/event/nick-garcia-4/
LOCATION:Gristmill River Restaurant & Bar\, 1287 Gruene Rd\, New Braunfels\, TX\, 78130\, United States
CATEGORIES:Free Event
END:VEVENT
BEGIN:VEVENT
DTSTART;TZID=America/Chicago:20260129T173000
DTEND;TZID=America/Chicago:20260129T203000
DTSTAMP:20260424T030712
CREATED:20260129T181226Z
LAST-MODIFIED:20260129T181357Z
UID:10000795-1769707800-1769718600@gristmillrestaurant.com
SUMMARY:Andi Holleman
DESCRIPTION:
URL:https://gristmillrestaurant.com/event/andi-holleman-8/
LOCATION:Gristmill River Restaurant & Bar\, 1287 Gruene Rd\, New Braunfels\, TX\, 78130\, United States
CATEGORIES:Free Event
END:VEVENT
BEGIN:VEVENT
DTSTART;TZID=America/Chicago:20260213T180000
DTEND;TZID=America/Chicago:20260213T210000
DTSTAMP:20260424T030712
CREATED:20260212T144429Z
LAST-MODIFIED:20260212T144429Z
UID:10000796-1771005600-1771016400@gristmillrestaurant.com
SUMMARY:Andrew Kreitz
DESCRIPTION:
URL:https://gristmillrestaurant.com/event/andrew-kreitz-21/
LOCATION:Gristmill River Restaurant & Bar\, 1287 Gruene Rd\, New Braunfels\, TX\, 78130\, United States
CATEGORIES:Free Event
END:VEVENT
BEGIN:VEVENT
DTSTART;TZID=America/Chicago:20260214T123000
DTEND;TZID=America/Chicago:20260214T153000
DTSTAMP:20260424T030712
CREATED:20260212T144520Z
LAST-MODIFIED:20260212T144520Z
UID:10000797-1771072200-1771083000@gristmillrestaurant.com
SUMMARY:Brandon Ford
DESCRIPTION:
URL:https://gristmillrestaurant.com/event/brandon-ford-17/
LOCATION:Gristmill River Restaurant & Bar\, 1287 Gruene Rd\, New Braunfels\, TX\, 78130\, United States
CATEGORIES:Free Event
END:VEVENT
BEGIN:VEVENT
DTSTART;TZID=America/Chicago:20260214T180000
DTEND;TZID=America/Chicago:20260214T210000
DTSTAMP:20260424T030712
CREATED:20260212T144602Z
LAST-MODIFIED:20260212T144602Z
UID:10000798-1771092000-1771102800@gristmillrestaurant.com
SUMMARY:Allan Hendrickson
DESCRIPTION:
URL:https://gristmillrestaurant.com/event/allan-hendrickson/
LOCATION:Gristmill River Restaurant & Bar\, 1287 Gruene Rd\, New Braunfels\, TX\, 78130\, United States
CATEGORIES:Free Event
END:VEVENT
BEGIN:VEVENT
DTSTART;TZID=America/Chicago:20260221T123000
DTEND;TZID=America/Chicago:20260221T153000
DTSTAMP:20260424T030712
CREATED:20260212T144651Z
LAST-MODIFIED:20260212T144651Z
UID:10000799-1771677000-1771687800@gristmillrestaurant.com
SUMMARY:Austin Gilliam
DESCRIPTION:
URL:https://gristmillrestaurant.com/event/austin-gilliam-20/
LOCATION:Gristmill River Restaurant & Bar\, 1287 Gruene Rd\, New Braunfels\, TX\, 78130\, United States
CATEGORIES:Free Event
END:VEVENT
BEGIN:VEVENT
DTSTART;TZID=America/Chicago:20260222T123000
DTEND;TZID=America/Chicago:20260222T153000
DTSTAMP:20260424T030712
CREATED:20260212T144758Z
LAST-MODIFIED:20260212T144758Z
UID:10000800-1771763400-1771774200@gristmillrestaurant.com
SUMMARY:Tony Taylor
DESCRIPTION:
URL:https://gristmillrestaurant.com/event/tony-taylor-48/
LOCATION:Gristmill River Restaurant & Bar\, 1287 Gruene Rd\, New Braunfels\, TX\, 78130\, United States
CATEGORIES:Free Event
END:VEVENT
BEGIN:VEVENT
DTSTART;TZID=America/Chicago:20260225T173000
DTEND;TZID=America/Chicago:20260225T203000
DTSTAMP:20260424T030712
CREATED:20260212T144839Z
LAST-MODIFIED:20260212T144839Z
UID:10000801-1772040600-1772051400@gristmillrestaurant.com
SUMMARY:Collie Miller
DESCRIPTION:
URL:https://gristmillrestaurant.com/event/collie-miller/
LOCATION:Gristmill River Restaurant & Bar\, 1287 Gruene Rd\, New Braunfels\, TX\, 78130\, United States
CATEGORIES:Free Event
END:VEVENT
BEGIN:VEVENT
DTSTART;TZID=America/Chicago:20260226T173000
DTEND;TZID=America/Chicago:20260226T203000
DTSTAMP:20260424T030712
CREATED:20260212T144912Z
LAST-MODIFIED:20260212T144912Z
UID:10000802-1772127000-1772137800@gristmillrestaurant.com
SUMMARY:Matt Kirk
DESCRIPTION:
URL:https://gristmillrestaurant.com/event/matt-kirk-38/
LOCATION:Gristmill River Restaurant & Bar\, 1287 Gruene Rd\, New Braunfels\, TX\, 78130\, United States
CATEGORIES:Free Event
END:VEVENT
BEGIN:VEVENT
DTSTART;TZID=America/Chicago:20260228T180000
DTEND;TZID=America/Chicago:20260228T210000
DTSTAMP:20260424T030712
CREATED:20260212T144946Z
LAST-MODIFIED:20260212T144946Z
UID:10000803-1772301600-1772312400@gristmillrestaurant.com
SUMMARY:True Labowski
DESCRIPTION:
URL:https://gristmillrestaurant.com/event/true-labowski-54/
LOCATION:Gristmill River Restaurant & Bar\, 1287 Gruene Rd\, New Braunfels\, TX\, 78130\, United States
CATEGORIES:Free Event
END:VEVENT
BEGIN:VEVENT
DTSTART;TZID=America/Chicago:20260301T120000
DTEND;TZID=America/Chicago:20260301T150000
DTSTAMP:20260424T030712
CREATED:20260216T210603Z
LAST-MODIFIED:20260216T210603Z
UID:10000804-1772366400-1772377200@gristmillrestaurant.com
SUMMARY:Dylan Rhys
DESCRIPTION:
URL:https://gristmillrestaurant.com/event/dylan-rhys-4/
LOCATION:Gristmill River Restaurant & Bar\, 1287 Gruene Rd\, New Braunfels\, TX\, 78130\, United States
CATEGORIES:Free Event
END:VEVENT
BEGIN:VEVENT
DTSTART;TZID=America/Chicago:20260302T173000
DTEND;TZID=America/Chicago:20260302T203000
DTSTAMP:20260424T030712
CREATED:20260216T210711Z
LAST-MODIFIED:20260216T210711Z
UID:10000805-1772472600-1772483400@gristmillrestaurant.com
SUMMARY:Trevor Underwood
DESCRIPTION:
URL:https://gristmillrestaurant.com/event/trevor-underwood-2/
LOCATION:Gristmill River Restaurant & Bar\, 1287 Gruene Rd\, New Braunfels\, TX\, 78130\, United States
CATEGORIES:Free Event
END:VEVENT
END:VCALENDAR